BEGIN:VCALENDAR
VERSION:2.0
PRODID:-//Tukios.com/
BEGIN:VEVENT
UID:0517ecf3-5106-4e22-9124-de513feb207b@www.wildefuneralhome.com
DTSTAMP:20260422T172755Z
DTSTART:20260427T150000Z
DTEND:20260427T160000Z
SUMMARY:Memorial Service
DESCRIPTION:
URL:https://www.wildefuneralhome.com/obituaries/james-wilson
LOCATION: 6 N 4th Ave  Coatesville PA 19320
GEO:39.9843626;-75.8177142
END:VEVENT
END:VCALENDAR