BEGIN:VCALENDAR
VERSION:2.0
PRODID:-//Tukios.com/
BEGIN:VEVENT
UID:3d44570b-5512-4cde-b42d-3236e020847f@www.wildefuneralhome.com
DTSTAMP:20260422T173238Z
DTSTART:20260427T140000Z
DTEND:20260427T150000Z
SUMMARY:Visitation
DESCRIPTION:
URL:https://www.wildefuneralhome.com/obituaries/james-wilson
LOCATION:Coatesville Bible Fellowship 6 N 4th Ave  Coatesville PA 19320
GEO:39.9843626;-75.8177142
END:VEVENT
END:VCALENDAR