BEGIN:VCALENDAR
VERSION:2.0
PRODID:-//Tukios.com/
BEGIN:VEVENT
UID:eb9d30bb-5c4b-4764-a31e-2be19b37777a@www.wildefuneralhome.com
DTSTAMP:20260422T190239Z
DTSTART:20260502T170000Z
DTEND:20260502T180000Z
SUMMARY:Memorial Service
DESCRIPTION:
URL:https://www.wildefuneralhome.com/obituaries/danielle-hayes
LOCATION: 411 Main St.  Parkesburg PA 19365
GEO:39.960702;-75.9205739
END:VEVENT
END:VCALENDAR