BEGIN:VCALENDAR
VERSION:2.0
PRODID:-//Tukios.com/
BEGIN:VEVENT
UID:180f9449-abfd-4ec8-8858-a33cf156f249@www.wildefuneralhome.com
DTSTAMP:20260422T190754Z
DTSTART:20260502T150000Z
DTEND:20260502T170000Z
SUMMARY:Visitation
DESCRIPTION:
URL:https://www.wildefuneralhome.com/obituaries/danielle-hayes
LOCATION: 411 Main St.  Parkesburg PA 19365
GEO:39.960702;-75.9205739
END:VEVENT
END:VCALENDAR